BEGIN:VCALENDAR
VERSION:2.0
PRODID:spatie/icalendar-generator
DESCRIPTION:Events from 
X-WR-CALDESC:Events from 
REFRESH-INTERVAL;VALUE=DURATION:PT1440M
X-PUBLISHED-TTL:PT1440M
BEGIN:VTIMEZONE
TZID:America/New_York
BEGIN:STANDARD
DTSTART:20251102T020000Z
TZOFFSETFROM:-0400
TZOFFSETTO:-0500
END:STANDARD
BEGIN:DAYLIGHT
DTSTART:20260308T020000Z
TZOFFSETFROM:-0500
TZOFFSETTO:-0400
END:DAYLIGHT
END:VTIMEZONE
BEGIN:VTIMEZONE
TZID:UTC
BEGIN:STANDARD
DTSTART:20250727T133603Z
TZOFFSETFROM:+0000
TZOFFSETTO:+0000
END:STANDARD
END:VTIMEZONE
BEGIN:VEVENT
UID:880-537
DTSTAMP:20260423T133603Z
SUMMARY:Annual Meeting
LOCATION:Merrimack High School - Cafe 38 McElwain St  Merrimack NH 03054
ORGANIZER;CN=.:MAILTO:amy.doucette@mvdwater.org
DTSTART;TZID=America/New_York:20260331T190000
DTEND;TZID=America/New_York:20260331T220000
X-ALT-DESC;FMTTYPE=TEXT/HTML:Click the here to view the \"Annual Meeting In
 formation\" webpage.
CATEGORIES:MVD Meeting
URL;VALUE=URI:https://www.mvdwater.org/calendar/?mc_id=880&#038;vcal=880
METHOD:PUBLISH
END:VEVENT
END:VCALENDAR